BEGIN:VCALENDAR
VERSION:2.0
PRODID:-//Vail Valley Foundation //NONSGML Events //EN
CALSCALE:GREGORIAN
X-WR-CALNAME:Vail Valley Foundation
BEGIN:VEVENT
CREATED:20250410T160010Z
UID:862772
DTEND;VALUE=DATE:20250916T183000
DTSTART;VALUE=DATE:20250916T183000
DTSTAMP:20260425T205311Z
LOCATION:
DESCRIPTION:<h1 class="text-orange">Tuesday September 16th, 2025</h1> Based out of Denver, CO, Clay Street Unit is rooted deep in homegrown southern Country/Folk and branches into the bluegrass sound that’s heard throughout the Appalachian hills. Forming in early 2021, the band just recently released their first EP and is working on developing and pushing their own unique sound, with a high energy, fresh take on the tradition of American folk and country music that is sure to keep you moving. <em>Generously Underwritten by Discover Vail.</em>
SUMMARY:VVF’S Community Concert | Clay Street Unit
ORGANIZER:Vail Valley Foundation
URL;VALUE=URI:https://vvf.org/event/vvfs-community-concert-2/
TRANSP:OPAQUE
BEGIN:VALARM
ACTION:DISPLAY
TRIGGER;VALUE=DATE-TIME:20250916T183000
DESCRIPTION:Reminder for VVF’S Community Concert | Clay Street Unit
END:VALARM
END:VEVENT
END:VCALENDAR
