BEGIN:VCALENDAR
VERSION:2.0
PRODID:-//Vail Valley Foundation //NONSGML Events //EN
CALSCALE:GREGORIAN
X-WR-CALNAME:Vail Valley Foundation
BEGIN:VEVENT
CREATED:20250410T160010Z
UID:862765
DTEND;VALUE=DATE:20250819T183000
DTSTART;VALUE=DATE:20250819T183000
DTSTAMP:20260425T212043Z
LOCATION:
DESCRIPTION:<h1 class="text-orange">Tuesday, August 19, 2025</h1> Shawn Barker [The Man In Black] was born and raised in the metro St. Louis area where like most entertainers, Shawn’s first experience with music was attending church with his family. From singing in church, playing drums in the school marching band or singing in cover bands and coffee houses, music and entertainment has always been in Shawn’s blood. In 2004, Shawn auditioned for the part of Elvis Presley in the broadway production of, “Million Dollar Quartet”. The director Floyd Mutrux, (“Dick Tracy” & “American Hot Wax”) recognized Shawn’s unique talent and requested Shawn to submit an audition for the part of Johnny Cash. Shawn agreed and was instantly cast in the part with Mutrux saying, “We have 100 people who can play Elvis, but we only have one that can play, Johnny Cash.” Since then, Shawn has performed his unmatchable tribute to Johnny Cash all over the world touring in Australia, Europe, Canada and across the United States. <span style="font-family: proxima-nova, -apple-system, system-ui, BlinkMacSystemFont, 'Helvetica Neue', Arial, sans-serif; font-size: 1rem;">Learn more at <a href="https://themaninblack.com">www.themaninblack.com</a></span>
SUMMARY:The Man in Black – A Tribute to Johnny Cash
ORGANIZER:Vail Valley Foundation
URL;VALUE=URI:https://vvf.org/event/the-man-in-black-a-tribute-to-johnny-cash/
TRANSP:OPAQUE
BEGIN:VALARM
ACTION:DISPLAY
TRIGGER;VALUE=DATE-TIME:20250819T183000
DESCRIPTION:Reminder for The Man in Black &#8211\; A Tribute to Johnny Cash
END:VALARM
END:VEVENT
END:VCALENDAR
