BEGIN:VCALENDAR
VERSION:2.0
PRODID:-//Vail Valley Foundation //NONSGML Events //EN
CALSCALE:GREGORIAN
X-WR-CALNAME:Vail Valley Foundation
BEGIN:VEVENT
CREATED:20250410T160010Z
UID:862757
DTEND;VALUE=DATE:20250708T183000
DTSTART;VALUE=DATE:20250708T183000
DTSTAMP:20260425T185956Z
LOCATION:
DESCRIPTION:<h1 class="text-orange">Tuesday, July 8, 2025</h1> Prepare to experience the electrifying magic of Those Crazy Nights - Journey Reimagined, a powerhouse Journey tribute band formed in 2019 from the heart of the Colorado front range. This high-energy ensemble brings to life the iconic sounds of Journey with unmatched authenticity, recreating the timeless hits that defined the glory of Rock N' Roll's greatest era. Whether it’s the soaring vocals, electrifying guitar solos, or the anthemic melodies, Those Crazy Nights delivers the full Journey experience and then some, leaving audiences everywhere captivated. But Those Crazy Nights is more than just a tribute band—they're a family. The band’s deep bond shines through in their performances, conveying a message of love, unity, and gratitude with every song. Each show is an uplifting journey that surpasses the music, creating a connection with the crowd that feels personal, heartfelt, and real. Their shared passion for Journey's legendary catalog and their commitment to spreading positivity have made them a must-see act in the national tribute scene. Touring nationwide, the band has built a loyal following, sharing stages across the country with the same fierce enthusiasm they bring to every performance. Audiences flock to see them not just for their musical prowess, but for the infectious energy and positivity they share. Those Crazy Nights are more than just musicians—they’re storytellers, dreamers, and true believers in the power of music to unite people. So, whether you’re a die-hard Journey fan or just someone who loves rock music and high-energy performances, Those Crazy Nights - Journey Reimagined will take you on a musical adventure you'll never forget. From Journey’s power ballads to the explosive energy of 80’s arena rock, Those Crazy Nights has something for everyone. Come join the family and let’s rock together!
SUMMARY:Those Crazy Nights -The Ultimate Journey Experience
ORGANIZER:Vail Valley Foundation
URL;VALUE=URI:https://vvf.org/event/those-crazy-nights-the-ultimate-journey-experience/
TRANSP:OPAQUE
BEGIN:VALARM
ACTION:DISPLAY
TRIGGER;VALUE=DATE-TIME:20250708T183000
DESCRIPTION:Reminder for Those Crazy Nights -The Ultimate Journey Experience
END:VALARM
END:VEVENT
END:VCALENDAR
