BEGIN:VCALENDAR
VERSION:2.0
PRODID:-//Vail Valley Foundation //NONSGML Events //EN
CALSCALE:GREGORIAN
X-WR-CALNAME:Vail Valley Foundation
BEGIN:VEVENT
CREATED:20250410T160010Z
UID:862754
DTEND;VALUE=DATE:20250624T183000
DTSTART;VALUE=DATE:20250624T183000
DTSTAMP:20260425T185956Z
LOCATION:
DESCRIPTION:<h1 class="text-orange">Tuesday, June 24, 2025</h1> Hailed for her “multi-genre talents” by Billboard and deemed a “star” by Rolling Stone, acclaimed singer-songwriter Maggie Rose has released her ambitious new album No One Gets Out Alive. Hearkening back to early ‘70s Laurel Canyon, the music deals in both dark and uplifting themes– disillusionment in relationships, ageism, female empowerment and living in the moment, among them, with Maggie’s big, soulful voice taking centerstage. Maggie successfully straddles the worlds of pop, rock, soul, Americana and folk, unencumbered by genre specifics. Recorded with a dream team including members of Jason Isbell’s 400 Unit, Alabama Shakes and Gregg Allman’s band, the record was produced by GRAMMY-Award winner Ben Tanner, mixed by Bobby Holland and arranged by conductor Don Hart (Phish, Lyle Lovett). A respected fixture of the Nashville community, Maggie has played the iconic Grand Ole Opry over 100 times and marquee festivals including Austin City Limits, Bonnaroo, and Newport Folk Fest. A true road warrior, she has shared the stage with the likes of Kelly Clarkson, Tedeschi Trucks Band, Heart, Joan Jett, Eric Church, Gov’t Mule, The Mavericks, Fitz & The Tantrums, St. Paul & The Broken Bones and The Revivalists among others. <span style="font-family: proxima-nova, -apple-system, system-ui, BlinkMacSystemFont, 'Helvetica Neue', Arial, sans-serif; font-size: 1rem;">Learn more at </span><a href="https://www.maggierosemusic.com/"><strong style="font-family: proxima-nova, -apple-system, system-ui, BlinkMacSystemFont, 'Helvetica Neue', Arial, sans-serif; font-size: 1rem;">www.maggierosemusic.com</strong></a>
SUMMARY:Maggie Rose
ORGANIZER:Vail Valley Foundation
URL;VALUE=URI:https://vvf.org/event/maggie-rose/
TRANSP:OPAQUE
BEGIN:VALARM
ACTION:DISPLAY
TRIGGER;VALUE=DATE-TIME:20250624T183000
DESCRIPTION:Reminder for Maggie Rose
END:VALARM
END:VEVENT
END:VCALENDAR
