BEGIN:VCALENDAR
VERSION:2.0
PRODID:-//Vail Valley Foundation //NONSGML Events //EN
CALSCALE:GREGORIAN
X-WR-CALNAME:Vail Valley Foundation
BEGIN:VEVENT
CREATED:20250324T140009Z
UID:852962
DTEND;VALUE=DATE:20250913T193000
DTSTART;VALUE=DATE:20250913T193000
DTSTAMP:20260425T210748Z
LOCATION:
DESCRIPTION:<h3 class="text-orange"><strong>Saturday, September 13th, 2025</strong></h3> <h1 class="text-green">The Black Crowes</h1> <h3 class="text-orange">with support from Dragondeer</h3>   <strong>About The Black Crowes:</strong> The Black Crowes are leaving the bullshit in the past. 15 years after their last album of original music, the Robinson Brothers present Happiness Bastards—their 10th studio album. Some may say the project has been several tumultuous years in the making, but it arrives at just the right time. Call it brotherly love or music destiny that brought them back together, the highly anticipated record consecrating the reunion of this legendary band just may be the thing that saves rock & roll. In a time where the art form is buried beneath the corporate sheen of its successors, The Black Crowes are biting back with the angst of words left unsaid penned on paper and electrified by guitar strings, revealing stripped, bare-boned rock & roll. No gloss, no glitter, just rhythm and blues at its very best—gritty, loud, and in your face. Since The Black Crowes reunited in 2019, they've made a triumphant return to form with over 150 shows spanning 20 countries worldwide, celebrating the 30th anniversary of Shake Your Money Maker, the album that put them on the map. Upon their return from the road, they knew they needed something new to show for their lost time. With producer Jay Joyce, The Robinson Brothers and longtime bassist Sven Pipien channeled years of experience into a raw, roots-driven sound. Happiness Bastards was released on March 15, 2024, and earned The Black Crowes their first GRAMMY nomination in over three decades for Best Rock Album. The band was also recently announced as 2025 Rock and Roll Hall of Fame nominees. Next, The Black Crowes and Jimmy Page will release the 25th anniversary edition of Live From The Greek on March 14, 2025, revisiting their legendary live collaboration with a fresh spotlight on one of rock’s most electrifying pairings. <strong style="font-family: proxima-nova, -apple-system, system-ui, BlinkMacSystemFont, 'Helvetica Neue', Arial, sans-serif; font-size: 1rem;"><a href="https://theblackcrowes.com/" target="_blank" rel="noopener">Learn More ></a></strong> <em>Gates open at 6:30pm, Show starts at 7:30pm.</em>
SUMMARY:The Black Crowes
ORGANIZER:Vail Valley Foundation
URL;VALUE=URI:https://vvf.org/event/the-black-crowes/
TRANSP:OPAQUE
BEGIN:VALARM
ACTION:DISPLAY
TRIGGER;VALUE=DATE-TIME:20250913T193000
DESCRIPTION:Reminder for The Black Crowes
END:VALARM
END:VEVENT
END:VCALENDAR
