BEGIN:VCALENDAR
VERSION:2.0
PRODID:-//Vail Valley Foundation //NONSGML Events //EN
CALSCALE:GREGORIAN
X-WR-CALNAME:Vail Valley Foundation
BEGIN:VEVENT
CREATED:20250313T160010Z
UID:846028
DTEND;VALUE=DATE:20260825T190000
DTSTART;VALUE=DATE:20260825T190000
DTSTAMP:20260425T205257Z
LOCATION:
DESCRIPTION:<h3 class="text-orange"><strong>Tuesday, August 25th, 2026</strong></h3> <h1 class="text-green text-uppercase"><strong>Ray LaMontagne</strong></h1> <h3 class="text-green"><strong>TROUBLE 20TH ANNIVERSARY TOUR</strong></h3> <h5 class="text-green">with support from</h5> <h2 class="text-green">The Weather Station</h2>   <p style="font-weight: 400;"><strong><em>Due to a lengthy healing process after an unexpected oral surgery, Ray LaMontagne’s performance at Gerald R. Ford Amphitheater, originally scheduled for August 26, 2025, has been rescheduled to August 25, 2026. All previously issued tickets will be honored for the new date. If you are unable to attend the rescheduled performance, please contact your original point of purchase for further assistance. </em></strong></p> <p class="text-green"><strong> Join Ray LaMontagne on the Trouble 20th Anniversary Tour.</strong></p> Ray's vast catalog spans nine full length records, chart topping radio singles, and a Grammy win, in addition to multiple Grammy nominations. This year will prove to be an exciting one for LaMontagne as he heads out on the road celebrating his first full length album, Trouble, playing the album in its entirety as well as songs from across his catalog. <strong><a href="https://www.raylamontagne.com/" target="_blank" rel="noopener">Learn More ></a></strong> <strong>The Weather Station</strong> — the project of Toronto based songwriter Tamara Lindeman — returns with new album <em>Humanhood</em> on January 17th via Fat Possum Records.  The last few years have seen The Weather Station release two albums: the career defining <em>Ignorance</em> (2021) and its ethereal, mostly live recording companion piece, <em>How Is It That I Should Look At The Stars</em> (2022). In that time, The Weather Station have gone on to headline tours across North America and Europe, play major festivals, and perform on the televised <em>Austin City Limits</em> as well as <em>Jimmy Kimmel Live</em>. <em>Ignorance</em> was named Best New Music (<em>Pitchfork</em>), and landed in year-end Top 10 lists from <em>The New Yorker</em> (#1), <em>Spin, New York Times, Uncut, Pitchfork, The Guardian, </em>and many others.  Called "a heartbroken masterpiece" in <em>The Guardian</em>, the record was a complex evocation of climate grief that struck a chord worldwide. <a href="https://www.theweatherstation.net/" target="_blank" rel="noopener"><strong>Learn More ></strong></a> <em>Gates open at 6:00pm, Show starts at 7:00pm.</em>
SUMMARY:Ray LaMontagne
ORGANIZER:Vail Valley Foundation
URL;VALUE=URI:https://vvf.org/event/ray-lamontagne/
TRANSP:OPAQUE
BEGIN:VALARM
ACTION:DISPLAY
TRIGGER;VALUE=DATE-TIME:20260825T190000
DESCRIPTION:Reminder for Ray LaMontagne
END:VALARM
END:VEVENT
END:VCALENDAR
