BEGIN:VCALENDAR
VERSION:2.0
PRODID:-//Vail Valley Foundation //NONSGML Events //EN
CALSCALE:GREGORIAN
X-WR-CALNAME:Vail Valley Foundation
BEGIN:VEVENT
CREATED:20250311T160010Z
UID:844745
DTEND;VALUE=DATE:20250614T190000
DTSTART;VALUE=DATE:20250614T190000
DTSTAMP:20260425T212322Z
LOCATION:
DESCRIPTION:<h3 class="text-orange"><strong>Saturday, June 14th, 2025</strong></h3> <h3 class="text-green"><strong>THE MONSOON NIGHTS TOUR</strong></h3> <h1 class="text-green"><strong style="font-family: montserrat, sans-serif, BlinkMacSystemFont, 'Helvetica Neue', Arial, sans-serif;">TREVOR HALL</strong></h1> <h1 class="text-green"><strong style="font-family: montserrat, sans-serif, BlinkMacSystemFont, 'Helvetica Neue', Arial, sans-serif; font-size: 1rem; letter-spacing: 0.03em;">with FRUIT BATS</strong></h1> <strong> About Trevor Hall: </strong>Trevor Hall and The Great In-Between marks the start of a new era for musician Trevor Hall. Releasing September 15th, 2023 on Hall’s own 3 Rivers Label, the highly-anticipated record delivers a future-folk masterpiece anchored in Hall’s beloved style, while simultaneously bringing a refreshing new sound to the forefront. Created solely within the confines of a barn-turned-studio in his own backyard, this record marks the first of Hall’s career where he helmed every aspect of the production process. Penned without external influence and from a purely creative and explorative space, Trevor Hall and the Great In-Between unveils raw and unfiltered facets of Hall that remain undiscovered. Hailing from a small island in South Carolina, Hall was raised in a musical family and began formally studying classical guitar in high school at Idyllwild Arts Academy. Quickly thrust into the world of major labels, Hall signed a record deal at the young age of sixteen. After realizing the restrictive nature of such deals, he decided to pave his own way and reclaim his artistic freedom. Starting in 2017, he began releasing music independently. Since then, Hall has sold hundreds of thousands of albums and amassed billions of streams, leaving an indelible mark on the lives of countless listeners. His memorable live performances have graced venues around the world, including multiple sold-out headline shows at the historic Red Rocks Amphitheater. Hall currently resides in Colorado with his wife, author & photographer Emory Hall, as well as his son. <strong><a href="https://www.trevorhallmusic.com/" target="_blank" rel="noopener">Learn More ></a></strong> <strong>About Fruit Bats: </strong>Indie folk-rock act Fruit Bats grew from the four-track recording project of songwriter <a draggable="false" href="https://open.spotify.com/artist/4LBdlNpHBD8dHPcVCrjSB6">Eric D. Johnson</a> into a touring band with an ever-shifting lineup, but constant are <a draggable="false" href="https://open.spotify.com/artist/4LBdlNpHBD8dHPcVCrjSB6">Johnson</a>'s warm vocals and melodic sensibility, both of which often seem to split the difference between <a draggable="false" href="https://open.spotify.com/artist/4x1nvY2FN8jxqAFA0DA02H">Lennon</a> and <a draggable="false" href="https://open.spotify.com/artist/4STHEaNw4mPZ2tzheohgXB">McCartney</a> (stated influences include <a draggable="false" href="https://open.spotify.com/artist/1PCZpxHJz7WAMF8EEq8bfc">the Byrds</a>, <a draggable="false" href="https://open.spotify.com/artist/1SQRv42e4PjEYfPhS0Tk9E">the Kinks</a>, and <a draggable="false" href="https://open.spotify.com/artist/3JsMj0DEzyWc0VDlHuy9Bx">Supertramp</a>). According to Johnson, “Fruit Bats has been a cult band for a long time.” With <em>Gold Past Life</em>, he hopes to bring more immediacy to the music and share positivity, hope, and motivation to keep on keepin’ on with a wider audience. “Fruit Bats makes existential make-out music,” he describes with a chuckle. “But you’re also welcome to dive into it deeper if you want. Good pop music should be sublime like that.” <strong><a href="https://www.trevorhallmusic.com/" target="_blank" rel="noopener">Learn More ></a></strong> <em>Gates open at 6:00pm, Show starts at 7:00pm.</em>
SUMMARY:Trevor Hall with Fruit Bats
ORGANIZER:Vail Valley Foundation
URL;VALUE=URI:https://vvf.org/event/trevor-hall-with-fruit-bats/
TRANSP:OPAQUE
BEGIN:VALARM
ACTION:DISPLAY
TRIGGER;VALUE=DATE-TIME:20250614T190000
DESCRIPTION:Reminder for Trevor Hall with Fruit Bats
END:VALARM
END:VEVENT
END:VCALENDAR
