BEGIN:VCALENDAR
VERSION:2.0
PRODID:-//Vail Valley Foundation //NONSGML Events //EN
CALSCALE:GREGORIAN
X-WR-CALNAME:Vail Valley Foundation
BEGIN:VEVENT
CREATED:20250310T160010Z
UID:844113
DTEND;VALUE=DATE:20250821T183000
DTSTART;VALUE=DATE:20250821T183000
DTSTAMP:20260425T212247Z
LOCATION:
DESCRIPTION:<h3 class="text-orange"><strong>Thursday, August 21st, 2025</strong></h3> <h1 class="text-green">Joe Russo's Almost Dead</h1> <b> Joe Russo’s Almost Dead</b> is an American <a class="mw-redirect" title="Rock band" href="https://en.wikipedia.org/wiki/Rock_band">rock band</a> formed in 2013 that mainly covers the music of the <a title="Grateful Dead" href="https://en.wikipedia.org/wiki/Grateful_Dead">Grateful Dead</a>. The band played their first show on January 26, 2013 at the <a title="Brooklyn Bowl" href="https://en.wikipedia.org/wiki/Brooklyn_Bowl">Brooklyn Bowl</a> in <a class="mw-redirect" title="Brooklyn, New York" href="https://en.wikipedia.org/wiki/Brooklyn,_New_York">Brooklyn, New York</a>. In addition to drummer Joe Russo, the band also includes <a title="Ween" href="https://en.wikipedia.org/wiki/Ween">Ween</a>‘s bassist <a title="Dave Dreiwitz" href="https://en.wikipedia.org/wiki/Dave_Dreiwitz">Dave Dreiwitz</a>, keyboardist <a title="Marco Benevento" href="https://en.wikipedia.org/wiki/Marco_Benevento">Marco Benevento</a>, <a title="Scott Metzger" href="https://en.wikipedia.org/wiki/Scott_Metzger">Scott Metzger</a> on guitar and vocals, and <a title="Tom Hamilton Jr." href="https://en.wikipedia.org/wiki/Tom_Hamilton_Jr.">Tom Hamilton</a> of <a title="Brothers Past" href="https://en.wikipedia.org/wiki/Brothers_Past">Brothers Past</a> and <a title="American Babies" href="https://en.wikipedia.org/wiki/American_Babies">American Babies</a> on guitar and vocals. <em>Gates open at 5:30pm, Show starts at 6:30pm.</em>
SUMMARY:Joe Russo’s Almost Dead
ORGANIZER:Vail Valley Foundation
URL;VALUE=URI:https://vvf.org/event/joe-russos-almost-dead-4/
TRANSP:OPAQUE
BEGIN:VALARM
ACTION:DISPLAY
TRIGGER;VALUE=DATE-TIME:20250821T183000
DESCRIPTION:Reminder for Joe Russo&#8217\;s Almost Dead
END:VALARM
END:VEVENT
END:VCALENDAR
