BEGIN:VCALENDAR
VERSION:2.0
PRODID:-//Vail Valley Foundation //NONSGML Events //EN
CALSCALE:GREGORIAN
X-WR-CALNAME:Vail Valley Foundation
BEGIN:VEVENT
CREATED:20250303T200009Z
UID:839753
DTEND;VALUE=DATE:20250817T190000
DTSTART;VALUE=DATE:20250817T190000
DTSTAMP:20260425T210956Z
LOCATION:
DESCRIPTION:<h3 class="text-orange"><strong>Sunday, August 17th, 2025</strong></h3> <h1 class="text-green text-uppercase">An August Evening With Wilco</h1>   <strong>About Wilco:</strong> <p class="">Evolving from a rough-and-tumble alt-country act into a mature and eclectic indie rock ensemble, Wilco have become critical favorites and cult heroes on the back of a stylistically diverse body of songs from founder Jeff Tweedy. Rising from the ashes of the seminal alt-country band Uncle Tupelo, Tweedy assembled Wilco's first lineup from the membership of UT's final edition. Wilco's 1995 debut album, A.M., picked up where Tweedy's work with Uncle Tupelo left off, but their second album, 1996's Being There, marked a dramatic stylistic shift where country and roots rock existed as only small parts of their creative formula, along with expressive pop and freewheeling sonic experimentation. Being There was Wilco's first album with guitar and keyboard player Jay Bennett, who would become Tweedy's closest collaborator on 1999's bent pop compendium Summerteeth and their breakthrough effort, 2001's Yankee Hotel Foxtrot.</p> <strong><a href="https://wilcoworld.net/" target="_blank" rel="noopener">Learn More ></a></strong> <em>Gates open at 6:00pm, Show starts at 7:00pm.</em>
SUMMARY:An August Evening With Wilco
ORGANIZER:Vail Valley Foundation
URL;VALUE=URI:https://vvf.org/event/wilco/
TRANSP:OPAQUE
BEGIN:VALARM
ACTION:DISPLAY
TRIGGER;VALUE=DATE-TIME:20250817T190000
DESCRIPTION:Reminder for An August Evening With Wilco
END:VALARM
END:VEVENT
END:VCALENDAR
