BEGIN:VCALENDAR
VERSION:2.0
PRODID:-//Vail Valley Foundation //NONSGML Events //EN
CALSCALE:GREGORIAN
X-WR-CALNAME:Vail Valley Foundation
BEGIN:VEVENT
CREATED:20241115T180005Z
UID:749452
DTEND;VALUE=DATE:20250405T170000
DTSTART;VALUE=DATE:20250405T170000
DTSTAMP:20260425T225905Z
LOCATION:
DESCRIPTION:<h3 class="text-orange"><strong>Saturday, April 5, 2025</strong></h3> <h1 class="text-green"><strong>SAMMY VIRJI & GOTH BABE</strong></h1> <h4 class="text-green"><strong>with support from</strong></h4> <h4 class="text-green"><strong>INTERPLANETARY CRIMINAL & DON FUEGO</strong></h4> <strong>ABOUT SAMMY VIRJI:</strong> DJ Sammy Virji is a prominent figure in the UK bass and house music scene, known for his infectious grooves, vibrant energy, and unique blend of garage, house, and bassline influences. Hailing from Leeds, he has gained a loyal following for his dynamic DJ sets and original productions, which often feature catchy melodies and heavy basslines. Sammy Virji has become a key player in the resurgence of UK dance music, performing at major festivals and clubs while consistently delivering tracks that resonate with both underground and mainstream audiences. <span data-contrast="none"><strong>ABOUT GOTH BABE: </strong></span>Goth Babe is Griff Washburn enjoying himself. Originally from Tennessee, Griff currently lives in a Tiny House with his pup Sadie in the mountains of Washington. When not on the road touring, Griff and Sadie are off enjoying the outdoors in the great Pacific Northwest. Snow, surf, and trails are plenty to occupy them in their offseason. Griff has seemed to have picked up on the brighter parts of life. Parting ways with social status and relevance, he's discovered how wonderful living day by day is. Making music to Griff is less a climb to the top, as it is a form of free thinking and enjoyment. <strong><a href="https://www.gothbabemusic.com/" target="_blank" rel="noopener">LEARN MORE ></a></strong> <strong>ABOUT DON FUEGO: </strong>Don Fuego is the high energy dance music culmination of a lifelong friendship. The duo has started their career in 2024 with a bang. From their highly celebrated remixes on SoundCloud, to their debut original release on Tomorrowland’s Smash The House imprint. Their powerhouse sets mix sounds of tech house, mainstage and world music and have been described as “the most fun you’ve ever seen anyone have on stage.” Don Fuego continues to rack up support from the likes of Zeds Dead, Hamdi, and Tomorrowland’s Dimitri Vegas & Like Mike. <hr /> <strong>SET TIMES (subject to change):</strong> 5:00pm – Don Fuego 5:45pm - Interplanetary Criminal 7:00pm – Goth Babe 8:45pm – Sammy Virji <p style="text-align: left;"><em>Gates open at 4:30pm, Show starts at 5:00pm. </em><em>*Schedule subject to change<span class="c-message__edited_label" dir="ltr" data-sk="tooltip_parent"> </span></em></p> <hr /> <h3 class="text-green">EVENT INFORMATION</h3> <p style="text-align: left;">If you have purchased tickets to this event, you will receive a pre-event email from boxoffice@vvf.org with everything you need to know!</p> <p style="text-align: left;"><b data-stringify-type="bold">WEATHER: </b>This event will take place outdoors and colder than average temperatures are expected. Dress appropriately and wear proper footwear. Variable conditions may exist inside the venue.</p> <p style="text-align: left;"><b data-stringify-type="bold">SEATING: </b>This concert is General Admission. All seating, both lawn and pavilion, is available to ticket holders on a first-come, first-served basis.</p> <p style="text-align: left;"><strong>FEE FREE TICKETS: </strong>Visit us in person at <a href="https://www.google.com/maps/dir/39.6359347,-106.5230658/gerald+r+ford+amphitheater/@39.6259747,-106.512734,12z/data=!3m1!4b1!4m9!4m8!1m1!4e1!1m5!1m1!1s0x876a709735d3f5d3:0x12b35057fd3a9900!2m2!1d-106.3647903!2d39.6394304" target="_blank" rel="noopener"><strong>Gerald R. Ford Amphitheater Box Office</strong></a> and purchase your tickets with NO FEES!</p> <p style="text-align: left;">Visit the Vilar Performing Arts Center box office 11AM - 5PM Monday through Friday and get your <a href="http://grfavail.com/apres25" target="_blank" rel="noopener">Après at The Amp </a>Tickets without service fees.</p> <p style="text-align: left;"><strong>PARKING</strong><strong>: </strong><strong>‘FOUR+ FOR FREE’:</strong> Grab 3 of your friends and carpool to the show to receive free parking at the Ford Park Parking lot (after 3pm). Subject to availability. Read more about parking and directions to our venue <strong><a href="https://nam10.safelinks.protection.outlook.com/?url=https%3A%2F%2Fgrfavail.com%2Fabout%2F%23parking-directions&data=05%7C02%7Ckdudding%40vvf.org%7Cb30fcd110bc24440dbf808dc532f889c%7C46dd2a79a25e440c8bd238a550a90285%7C0%7C0%7C638476710917209594%7CUnknown%7CTWFpbGZsb3d8eyJWIjoiMC4wLjAwMDAiLCJQIjoiV2luMzIiLCJBTiI6Ik1haWwiLCJXVCI6Mn0%3D%7C0%7C%7C%7C&sdata=kvw%2FgdvTmnPArQDSUfqqt351YcDd9TO2J2RmHABMRwY%3D&reserved=0">HERE</a></strong>. *No overnight parking in the Ford Park Parking Lot or the Top Decks of the Vail and Lionshead Parking Garages. There will be free express bus service available from the parking structures.</p> <p style="text-align: left;"><strong>NO RENTRY:</strong> If you leave the venue, you cannot get back in. Your ticket can only be scanned once.</p>   <hr />  
SUMMARY:Après at The Amp w/ Sammy Virji + Goth Babe
ORGANIZER:Vail Valley Foundation
URL;VALUE=URI:https://vvf.org/event/apres-at-the-amp-w-goth-babe-co-headliner-tba/
TRANSP:OPAQUE
BEGIN:VALARM
ACTION:DISPLAY
TRIGGER;VALUE=DATE-TIME:20250405T170000
DESCRIPTION:Reminder for Après at The Amp w/ Sammy Virji + Goth Babe
END:VALARM
END:VEVENT
END:VCALENDAR
