BEGIN:VCALENDAR
VERSION:2.0
PRODID:-//Vail Valley Foundation //NONSGML Events //EN
CALSCALE:GREGORIAN
X-WR-CALNAME:Vail Valley Foundation
BEGIN:VEVENT
CREATED:20241115T180005Z
UID:749450
DTEND;VALUE=DATE:20250404T173000
DTSTART;VALUE=DATE:20250404T173000
DTSTAMP:20260425T230051Z
LOCATION:
DESCRIPTION:<h3 class="text-orange"><strong>Friday, April 4, 2025</strong></h3> <h4 class="text-green">JUNGLE DJ SET & L'IMPÉRATRICE</h4> <h4 class="text-green">with support from AMBA</h4> <strong>ABOUT JUNGLE: </strong><b>Jungle</b> is a British band founded in 2013 by London-based <a class="mw-redirect" title="Musical production" href="https://en.wikipedia.org/wiki/Musical_production">producers</a> Josh Lloyd-Watson and Tom McFarland. Jungle have released four studio albums: <i>Jungle</i> (2014), which was shortlisted for the Mercury Prize, <i>For Ever</i> (2018), <i>Loving in Stereo</i> (2021), and <i>Volcano</i> (2023). The first two albums were released through XL Recordings while the latter two via their independent label Caiola Records. In 2023, having worked as the main musical contributor on <i>Loving in Stereo</i> and <i>Volcano</i>, and a key performing member of the live group, Lydia Kitto joined as a permanent member. <strong><a href="https://www.junglejunglejungle.com/" target="_blank" rel="noopener">LEARN MORE ></a></strong> <span data-contrast="none"><strong>ABOUT L'IMPÉRATRICE:</strong> L'Impératrice is a French band consisting of six musicians: Charles de Boisseguin (founder, keyboards), Hagni Gwon (keyboards), David Gaugué (bass), Achille Trocellier (guitar), Tom Daveau (drums), and vocalist Flore Benguigui, who joined in 2015. They released their debut EP in 2012, followed by <em>Sonate Pacifique</em> (2014) and <em>Odyssée</em> (2015). In 2016, they won the Deezer Adami Fans' award and joined the independent label microqlima, releasing <em>Séquences</em> in 2017. Their first album, <em>Matahari</em>, came out in 2018, with notable performances across France, including La Cigale and the French National Assembly. On 26 September 2024, Flore Benguigui announced her departure for health reasons, and the band introduced their new singer, Louve, on 1 October 2024. </span> <p class="text-orange"><strong><a href="https://l-imperatrice.cool/en/home/" target="_blank" rel="noopener">LEARN MORE ></a></strong></p> <hr /> <h3 class="text-green">SET TIMES (subject to change):</h3> 5:30pm – Amba 7:00pm – L’Impératrice 8:45pm – Jungle DJ Set <em>Gates open at 4:30pm, Show starts at 5:30pm. </em><em>*Schedule subject to change<span class="c-message__edited_label" dir="ltr" data-sk="tooltip_parent"> </span></em> <hr /> <h3 class="text-green">EVENT INFORMATION</h3> <p style="text-align: left;">If you have purchased tickets to this event, you will receive a pre-event email from boxoffice@vvf.org with everything you need to know!</p> <p style="text-align: left;"><b data-stringify-type="bold">WEATHER: </b>This event will take place outdoors and colder than average temperatures are expected. Dress appropriately and wear proper footwear. Variable conditions may exist inside the venue.</p> <p style="text-align: left;"><b data-stringify-type="bold">SEATING: </b>This concert is General Admission. All seating, both lawn and pavilion, is available to ticket holders on a first-come, first-served basis.</p> <p style="text-align: left;"><strong>FEE FREE TICKETS: </strong>Visit us in person at <a href="https://www.google.com/maps/dir/39.6359347,-106.5230658/gerald+r+ford+amphitheater/@39.6259747,-106.512734,12z/data=!3m1!4b1!4m9!4m8!1m1!4e1!1m5!1m1!1s0x876a709735d3f5d3:0x12b35057fd3a9900!2m2!1d-106.3647903!2d39.6394304" target="_blank" rel="noopener"><strong>Gerald R. Ford Amphitheater Box Office</strong></a> and purchase your tickets with NO FEES!</p> <p style="text-align: left;">Visit the Vilar Performing Arts Center box office 11AM - 5PM Monday through Friday and get your <a href="http://grfavail.com/apres25" target="_blank" rel="noopener">Après at The Amp </a>Tickets without service fees.</p> <p style="text-align: left;"><strong>PARKING</strong><strong>: </strong><strong>‘FOUR+ FOR FREE’:</strong> Grab 3 of your friends and carpool to the show to receive free parking at the Ford Park Parking lot (after 3pm). Subject to availability. Read more about parking and directions to our venue <strong><a href="https://nam10.safelinks.protection.outlook.com/?url=https%3A%2F%2Fgrfavail.com%2Fabout%2F%23parking-directions&data=05%7C02%7Ckdudding%40vvf.org%7Cb30fcd110bc24440dbf808dc532f889c%7C46dd2a79a25e440c8bd238a550a90285%7C0%7C0%7C638476710917209594%7CUnknown%7CTWFpbGZsb3d8eyJWIjoiMC4wLjAwMDAiLCJQIjoiV2luMzIiLCJBTiI6Ik1haWwiLCJXVCI6Mn0%3D%7C0%7C%7C%7C&sdata=kvw%2FgdvTmnPArQDSUfqqt351YcDd9TO2J2RmHABMRwY%3D&reserved=0">HERE</a></strong>. *No overnight parking in the Ford Park Parking Lot or the Top Decks of the Vail and Lionshead Parking Garages. There will be free express bus service available from the parking structures.</p> <p style="text-align: left;"><strong>NO RENTRY:</strong> If you leave the venue, you cannot get back in. Your ticket can only be scanned once.</p>
SUMMARY:Après at The Amp w/ Jungle DJ Set + L’IMPÉRATRICE
ORGANIZER:Vail Valley Foundation
URL;VALUE=URI:https://vvf.org/event/apres-at-the-amp-w-jungle-dj-set-limperatrice/
TRANSP:OPAQUE
BEGIN:VALARM
ACTION:DISPLAY
TRIGGER;VALUE=DATE-TIME:20250404T173000
DESCRIPTION:Reminder for Après at The Amp w/ Jungle DJ Set + L&#8217\;IMPÉRATRICE
END:VALARM
END:VEVENT
END:VCALENDAR
