BEGIN:VCALENDAR
VERSION:2.0
PRODID:-//Vail Valley Foundation //NONSGML Events //EN
CALSCALE:GREGORIAN
X-WR-CALNAME:Vail Valley Foundation
BEGIN:VEVENT
CREATED:20241112T180004Z
UID:747640
DTEND;VALUE=DATE:20250620T192000
DTSTART;VALUE=DATE:20250620T192000
DTSTAMP:20260425T230116Z
LOCATION:
DESCRIPTION:<h3 class="text-orange"><strong>Friday, June 20, 2025</strong></h3>   <h4 class="text-green"><em>97.3 KBCO PRESENTS</em></h4> <h1 class="text-green">O.A.R. Colorado Road Trip</h1> <h4 class="text-green"><em>with special guest</em> BLIND MELON</h4> <strong>ABOUT O.A.R.:</strong> For over 25 years, O.A.R. has embodied the kind of joyfully communal spirit that’s transcendent for both artist and audience alike. Since forming in Maryland in 1996, the multi-platinum-selling band have merged their musical DNA into a free-flowing sound and exhilarating live show, repeatedly selling out legendary venues like Madison Square Garden thanks to their massively devoted community of fans. For O.A.R., the work of endlessly uplifting their followers is equal parts charmed responsibility and immense privilege—a dynamic that singer/guitarist, Marc Roberge considers essential to the band’s remarkable longevity. “We’re still always saying to each other, ‘Can you believe we’re still doing this at this level, and it’s still this much fun?’” he reveals. “Apart from communicating, I think the number-one thing you need to keep a band going is really appreciate and find joy in what you do, and that’s absolutely the case with us. We don’t ever take any of it for granted.” <strong><a href="https://www.liveoar.com/" target="_blank" rel="noopener">Learn More ></a></strong> <strong>ABOUT BLIND MELON: </strong><span class="x-el x-el-span c1-6e c1-6f c1-b c1-c c1-d c1-e c1-f c1-g">Twenty-five years after the release of their self-titled debut – an album that fused southern psych-rock influences with nineties-era alt-grunge – Blind Melon is returning to the studio and the stage. The internet age has made rediscovering the gems of eras past all too easy and reunion tours of old material an obvious choice. But despite the fact that the band’s breakout </span><span class="x-el x-el-span c1-6e c1-6f c1-b c1-c c1-d c1-e c1-f c1-g">single, “No Rain,” became one of the most indelible music videos of the 90’s—or any era for that matter—Blind Melon’s return is no exercise in nostalgia. With new members and new material defined by powerhouse harmonies, the band sounds both fresh and familiar.</span> <strong><a href="https://blindmelon.com/home" target="_blank" rel="noopener">Learn More ></a></strong> <em>Gates open at 6:30pm, Show starts at 7:20pm.</em>
SUMMARY:O.A.R. with special guest Blind Melon
ORGANIZER:Vail Valley Foundation
URL;VALUE=URI:https://vvf.org/event/o-a-r-with-special-guest-blind-melon/
TRANSP:OPAQUE
BEGIN:VALARM
ACTION:DISPLAY
TRIGGER;VALUE=DATE-TIME:20250620T192000
DESCRIPTION:Reminder for O.A.R. with special guest Blind Melon
END:VALARM
END:VEVENT
END:VCALENDAR
