BEGIN:VCALENDAR
VERSION:2.0
PRODID:-//Vail Valley Foundation //NONSGML Events //EN
CALSCALE:GREGORIAN
X-WR-CALNAME:Vail Valley Foundation
BEGIN:VEVENT
CREATED:20240422T140002Z
UID:684150
DTEND;VALUE=DATE:20240714T200000
DTSTART;VALUE=DATE:20240714T200000
DTSTAMP:20260425T230059Z
LOCATION:
DESCRIPTION:<h3 class="text-orange"><strong>Sunday, July 14, 2024</strong></h3> <h1 class="text-green">BROTHERS OSBORNE</h1> <h1 class="text-green">WITH SPECIAL GUEST GRACE BOWERS & THE HODGE PODGE</h1> <strong>ABOUT BROTHERS OSBORNE</strong> Brothers Osborne are one of music’s most consistently adventurous bands, a duo connected by not just blood, but also a lifetime of performing together, and a shared working class upbringing in Deale, Maryland. The reigning CMA and ACM Duo of the Year winners, John and TJ Osborne are leaders of a progressive and still classic school of country music, and the faces of the new generation of Nashville. The siblings took home their first GRAMMY in 2022, winning Best Country Duo/Group Performance for their song “Younger Me,” inspired by TJ's recent coming out. The song is featured on the deluxe version of their GRAMMY - nominated album, Skeletons. The band has been nominated for 12 GRAMMYs in total, standing as six-time CMA Vocal Duo of the Year, and are four-time ACM Duo of the Year. Overall, they have collected seven CMA awards, seven ACM trophies and received the ASCAP Vanguard Award in 2019. Their critically acclaimed hit songs have tallied multiple RIAA Gold and Platinum certifications, while surpassing more than 2.7 Billion global streams. <strong><a href="https://www.brothersosborne.com/" target="_blank" rel="noopener">Learn More ></a></strong> <strong>ABOUT GRACE BOWERS & THE HODGE PODGE </strong> Clenching a red Gibson SG, Grace Bowers expresses emotion through fluid fretwork and raw riff-craft. Instead of resorting to mere words, chords and leads evoke feelings for the 17-year-old guitarist and band leader. It's why she's quietly emerged as not only a phenomenon on her instrument of choice, but also as an enigmatic musical presence. It's why she's been sought after by everyone from Dolly Parton, Lainey Wilson, Devon Allman, Margo Price, Tyler Childers, Kingfish, Susan Tedeshi and earned acclaim courtesy of Rolling Stone and more. <strong><a href="https://www.gracebowers.com/" target="_blank" rel="noopener">Learn More ></a></strong> <em>Gates open at 7:00pm, Show starts at 8:00pm.</em>
SUMMARY:BROTHERS OSBORNE
ORGANIZER:Vail Valley Foundation
URL;VALUE=URI:https://vvf.org/event/brothers-osborne/
TRANSP:OPAQUE
BEGIN:VALARM
ACTION:DISPLAY
TRIGGER;VALUE=DATE-TIME:20240714T200000
DESCRIPTION:Reminder for BROTHERS OSBORNE
END:VALARM
END:VEVENT
END:VCALENDAR
