BEGIN:VCALENDAR
VERSION:2.0
PRODID:-//Vail Valley Foundation //NONSGML Events //EN
CALSCALE:GREGORIAN
X-WR-CALNAME:Vail Valley Foundation
BEGIN:VEVENT
CREATED:20240412T160002Z
UID:683148
DTEND;VALUE=DATE:20240827T183000
DTSTART;VALUE=DATE:20240827T183000
DTSTAMP:20260426T005828Z
LOCATION:
DESCRIPTION:<h1 class="text-orange">Tuesday, August 27, 2024</h1> <em>"Guided by life experiences, Lindsay Lou's sound and songwriting continues to evolve and intertwine her sturdy Bluegrass roots with progressive Americana and Folk.”</em> – PBS "I saw a literal manifestation of the sacred feminine, and had this profound sense that I was meant to embody it,” recalls celebrated singer-songwriter Lindsay Lou after journeying through a hallucinogenic ritual that would inform the way she processed waves of grief in the sea of change ahead of her. The loss of her grandmother, the end of her marriage, and the overwhelming turmoil of COVID lockdowns found the Nashville-based artist on a spiritual journey of self-knowledge and healing with this gift from the mystic swirl. On her new album <em>Queen of Time</em> (due September 29th from Kill Rock Stars), Lou explores that quest across ten tracks of tender, heartbreakingly beautiful music. Lou’s vocals are a powerful companion to her songwriting. “In an era when style and trends can become genericana, [Lou] focuses on the song,” said No Depression. “It is infectious and joyful, soulful even.” The undeniable centerpiece throughout <em>Queen of Time</em>, Lou’s voice is a molasses-sweet instrument equally capable of clarion ache, slicing deep into the soul. <span style="font-family: proxima-nova, -apple-system, system-ui, BlinkMacSystemFont, 'Helvetica Neue', Arial, sans-serif; font-size: 1rem;">Learn more at </span><strong style="font-family: proxima-nova, -apple-system, system-ui, BlinkMacSystemFont, 'Helvetica Neue', Arial, sans-serif; font-size: 1rem;"><a href="https://www.lindsayloumusic.com/" target="_blank" rel="noopener">www.lindsayloumusic.com.</a></strong>
SUMMARY:Lindsay Lou
ORGANIZER:Vail Valley Foundation
URL;VALUE=URI:https://vvf.org/event/lindsay-lou/
TRANSP:OPAQUE
BEGIN:VALARM
ACTION:DISPLAY
TRIGGER;VALUE=DATE-TIME:20240827T183000
DESCRIPTION:Reminder for Lindsay Lou
END:VALARM
END:VEVENT
END:VCALENDAR
