BEGIN:VCALENDAR
VERSION:2.0
PRODID:-//Vail Valley Foundation //NONSGML Events //EN
CALSCALE:GREGORIAN
X-WR-CALNAME:Vail Valley Foundation
BEGIN:VEVENT
CREATED:20240412T160002Z
UID:683140
DTEND;VALUE=DATE:20240813T183000
DTSTART;VALUE=DATE:20240813T183000
DTSTAMP:20260426T005828Z
LOCATION:
DESCRIPTION:<h1 class="text-orange">Tuesday, August 13, 2024</h1> Allen Stone, a soul/R&B luminary, has enraptured global audiences with his electrifying performances and soulful melodies, embodying the essence of classic soul legends. His genre-defying style, blending funk, gospel, folk-rock, and soul, has garnered critical acclaim and a devoted following. Stone's journey to musical stardom commenced in Chewelah, Washington, where his upbringing immersed him in gospel music as a pastor's son. Relocating to Seattle, he tirelessly toured the West Coast in his '87 Buick, swiftly gaining acclaim for his dynamic live shows, often playing up to 200 dates annually alongside luminaries such as Stevie Wonder, Al Green, Dave Matthews Band, Erykah Badu, and Gary Clark Jr. Notably, Stone recently hit the road with Chris Stapleton, further solidifying his status as a tour de force in the music industry. Alongside his prolific touring schedule, Stone has graced national television screens and mentored on ABC's American Idol, underscoring his esteemed position in the music realm. Currently back in the studio, Allen Stone is eagerly crafting new music slated for release in 2024. <span style="font-family: proxima-nova, -apple-system, system-ui, BlinkMacSystemFont, 'Helvetica Neue', Arial, sans-serif; font-size: 1rem;">Learn more at </span><strong style="font-family: proxima-nova, -apple-system, system-ui, BlinkMacSystemFont, 'Helvetica Neue', Arial, sans-serif; font-size: 1rem;"><a href="https://www.allenstone.com/" target="_blank" rel="noopener">www.allenstone.com.</a></strong>
SUMMARY:Allen Stone
ORGANIZER:Vail Valley Foundation
URL;VALUE=URI:https://vvf.org/event/allen-stone/
TRANSP:OPAQUE
BEGIN:VALARM
ACTION:DISPLAY
TRIGGER;VALUE=DATE-TIME:20240813T183000
DESCRIPTION:Reminder for Allen Stone
END:VALARM
END:VEVENT
END:VCALENDAR
