BEGIN:VCALENDAR
VERSION:2.0
PRODID:-//Vail Valley Foundation //NONSGML Events //EN
CALSCALE:GREGORIAN
X-WR-CALNAME:Vail Valley Foundation
BEGIN:VEVENT
CREATED:20240412T160002Z
UID:683136
DTEND;VALUE=DATE:20240716T183000
DTSTART;VALUE=DATE:20240716T183000
DTSTAMP:20260426T005839Z
LOCATION:
DESCRIPTION:<h1 class="text-orange">Tuesday, July 16, 2024</h1> THE SPRINGSTEEN EXPERIENCE is a high-octane, chronological journey, recreating the most memorable moments and stage interactions throughout E STREET concert history. From 1973 through the height of Bruce’s Fame in the 80’s and beyond, this theatrical production accurately replicates the near circus-like appeal of an authentic Springsteen concert; including vintage equipment and stage sets, multiple costume changes, and note-perfect renditions of Bruce’s most popular hits and lyrical gems. With the addition of the four-piece MIAMI HORN section, THE EXPERIENCE is a non-stop adrenaline rush… a theatrical concert event like no other production in the replica-rock genre today. Songs like BORN TO RUN, DETROIT MEDLEY, ADAM RAISED A CAIN, SHERRY DARLING, HUNGRY HEART, GLORY DAYS, BORN IN THE USA, and many more. THE SPRINGSTEEN EXPERIENCE is a show for all ages and with something for everyone; an event to come back for again and again. <span style="font-family: proxima-nova, -apple-system, system-ui, BlinkMacSystemFont, 'Helvetica Neue', Arial, sans-serif; font-size: 1rem;">Learn more at </span><strong style="font-family: proxima-nova, -apple-system, system-ui, BlinkMacSystemFont, 'Helvetica Neue', Arial, sans-serif; font-size: 1rem;"><a href="https://www.brucespringsteentribute.com/" target="_blank" rel="noopener">www.brucespringsteentribute.com.</a></strong>
SUMMARY:The Springsteen Experience
ORGANIZER:Vail Valley Foundation
URL;VALUE=URI:https://vvf.org/event/the-springsteen-experience/
TRANSP:OPAQUE
BEGIN:VALARM
ACTION:DISPLAY
TRIGGER;VALUE=DATE-TIME:20240716T183000
DESCRIPTION:Reminder for The Springsteen Experience
END:VALARM
END:VEVENT
END:VCALENDAR
