BEGIN:VCALENDAR
VERSION:2.0
PRODID:-//Vail Valley Foundation //NONSGML Events //EN
CALSCALE:GREGORIAN
X-WR-CALNAME:Vail Valley Foundation
BEGIN:VEVENT
CREATED:20240412T160002Z
UID:683129
DTEND;VALUE=DATE:20240625T183000
DTSTART;VALUE=DATE:20240625T183000
DTSTAMP:20260426T005822Z
LOCATION:
DESCRIPTION:<h1 class="text-orange">Tuesday, June 25, 2024</h1> Town Mountain Lines in the Levee Hailing from Asheville, North Carolina, Town Mountain is the sum of all its vast and intricate influences — this bastion of alt-country rebellion and honky-tonk attitude pushed through the hardscrabble Southern Appalachian lens of its origin.“ For us, it’s all about the interaction between the audience and theband — doing whatever we can on stage to facilitate that two-way street of energy and emotion," says mandolinist Phil Barker. "Whether it's a danceable groove or a particular lyric in a song, we're projecting what we're going through in our daily lives, and we feel that other people can attest to that as well - it's all about making that connection." <span style="font-family: proxima-nova, -apple-system, system-ui, BlinkMacSystemFont, 'Helvetica Neue', Arial, sans-serif; font-size: 1rem;">Learn more at </span><strong style="font-family: proxima-nova, -apple-system, system-ui, BlinkMacSystemFont, 'Helvetica Neue', Arial, sans-serif; font-size: 1rem;"><a href="https://www.townmountain.net/" target="_blank" rel="noopener">www.townmountain.net.</a></strong>
SUMMARY:Town Mountain
ORGANIZER:Vail Valley Foundation
URL;VALUE=URI:https://vvf.org/event/town-mountain/
TRANSP:OPAQUE
BEGIN:VALARM
ACTION:DISPLAY
TRIGGER;VALUE=DATE-TIME:20240625T183000
DESCRIPTION:Reminder for Town Mountain
END:VALARM
END:VEVENT
END:VCALENDAR
