BEGIN:VCALENDAR
VERSION:2.0
PRODID:-//Vail Valley Foundation //NONSGML Events //EN
CALSCALE:GREGORIAN
X-WR-CALNAME:Vail Valley Foundation
BEGIN:VEVENT
CREATED:20240412T160002Z
UID:683127
DTEND;VALUE=DATE:20240618T183000
DTSTART;VALUE=DATE:20240618T183000
DTSTAMP:20260425T225905Z
LOCATION:
DESCRIPTION:<h1 class="text-orange">Tuesday, June 18, 2024</h1> The sandy shores of Asbury Park, New Jersey are hallowed ground in the northeast; the rolling waves have ushered generations of venerated musicians to worldwide acclaim. Dogs in a Pile, an eclectic quintet, has emerged as the heir apparent to the town’s rich musical legacy. Merging funk, jazz, and rock and roll with psychedelia, the quintet presents a completely original vibe built on kaleidoscopic soundscapes eerily reminiscent of the days of yesteryear. The Dogs employ a unified approach to performance and songwriting, crafting aural mosaics through adept instrumentation and humble precocity. As avid storytellers, they draw inspiration from personal experiences, balancing life’s foibles with ever-present youthful sanguinity. <span style="font-family: proxima-nova, -apple-system, system-ui, BlinkMacSystemFont, 'Helvetica Neue', Arial, sans-serif; font-size: 1rem;">Learn more at </span><strong style="font-family: proxima-nova, -apple-system, system-ui, BlinkMacSystemFont, 'Helvetica Neue', Arial, sans-serif; font-size: 1rem;"><a href="https://dogsinapileofficial.com/" target="_blank" rel="noopener">www.dogsinapileofficial.com.</a></strong>
SUMMARY:Dogs In A Pile
ORGANIZER:Vail Valley Foundation
URL;VALUE=URI:https://vvf.org/event/dogs-in-a-pile/
TRANSP:OPAQUE
BEGIN:VALARM
ACTION:DISPLAY
TRIGGER;VALUE=DATE-TIME:20240618T183000
DESCRIPTION:Reminder for Dogs In A Pile
END:VALARM
END:VEVENT
END:VCALENDAR
