BEGIN:VCALENDAR
VERSION:2.0
PRODID:-//Vail Valley Foundation //NONSGML Events //EN
CALSCALE:GREGORIAN
X-WR-CALNAME:Vail Valley Foundation
BEGIN:VEVENT
CREATED:20240405T140002Z
UID:682248
DTEND;VALUE=DATE:20240816T190000
DTSTART;VALUE=DATE:20240816T190000
DTSTAMP:20260426T005838Z
LOCATION:
DESCRIPTION:<h3 class="text-orange"><strong>Friday, August 16, 2024</strong></h3> <h1 class="text-green text-uppercase">WALKER HAYES</h1> <h3>WITH SPECIAL GUEST Kylie Morgan & Tenille Arts</h3> <p class="Type__TypeElement-sc-goli3j-0 bGcjcI" data-encore-id="type">Monument Records recording artist, Walker Hayes, is a GRAMMY Nominated singer/songwriter originally from Mobile, Alabama. His recent album County Stuff The Album features single “AA” and smash hit “Fancy Like.” “Fancy Like” has topped every sales and streaming chart since its release, spending a collective 6 months and counting at the number one spot on Billboard’s Hot Country Songs. The song was featured in a national Applebee’s ad campaign and hit the top 5 on Billboard’s Hot 100 Songs chart. His follow-up single, “AA” is following closely behind, having been performed on the ACM and CMT Award shows this year. With an arena tour this fall, and a best-selling book under his belt, Walker Hayes is a bonafide superstar.</p> <p class="Type__TypeElement-sc-goli3j-0 bGcjcI" data-encore-id="type">Hayes has performed his music, including the Double-Platinum RIAA certified hit “You Broke Up With Me,” to national audiences on Good Morning America, Late Night with Seth Meyers, The Tonight Show Starring Jimmy Fallon, and the TODAY Show, and was profiled for CBS Sunday Morning.</p> <strong><a href="https://www.walkerhayes.com/">Learn More ></a></strong> <em>Gates open at 6:00pm, Show starts at 7:00pm.</em>
SUMMARY:WALKER HAYES
ORGANIZER:Vail Valley Foundation
URL;VALUE=URI:https://vvf.org/event/walker-hayes/
TRANSP:OPAQUE
BEGIN:VALARM
ACTION:DISPLAY
TRIGGER;VALUE=DATE-TIME:20240816T190000
DESCRIPTION:Reminder for WALKER HAYES
END:VALARM
END:VEVENT
END:VCALENDAR
