BEGIN:VCALENDAR
VERSION:2.0
PRODID:-//Vail Valley Foundation //NONSGML Events //EN
CALSCALE:GREGORIAN
X-WR-CALNAME:Vail Valley Foundation
BEGIN:VEVENT
CREATED:20240222T160003Z
UID:677740
DTEND;VALUE=DATE:20240722T193000
DTSTART;VALUE=DATE:20240722T193000
DTSTAMP:20260426T024713Z
LOCATION:
DESCRIPTION:<h3 class="text-orange"><strong>Monday, July 22, 2024</strong></h3> <h1 class="text-green">NORAH JONES</h1> <h3 class="text-green text-uppercase">WITH Special guest Hurray for the Riff Raff</h3> <strong>About Norah Jones: </strong> Norah Jones is a Multi-GRAMMY winning singer and pianist who loves playing music with people, so she started her own podcast to do just that. Each episode, she sits down with a different guest for impromptu musical collaborations and candid conversation. Her guests come from all walks of life and every musical style and you never know where the songs will take them. So, come hang out in the studio. Norah Jones is Playing Along! <strong><a href="https://www.norahjones.com/">Learn More ></a></strong> <b>About Hurray for the Riff Raff: </b>Hurray for the Riff Raff is an American band from formed in 2007 by Alynda Segarra, a singer-songwriter from <a title="The Bronx" href="https://en.wikipedia.org/wiki/The_Bronx">the Bronx</a>, <a title="New York (state)" href="https://en.wikipedia.org/wiki/New_York_(state)">New York</a>, after they had moved to New Orleans. As Segarra's project, the group originally performed different styles of <a title="Folk music" href="https://en.wikipedia.org/wiki/Folk_music">folk music</a> while releasing several albums <a title="Independent music" href="https://en.wikipedia.org/wiki/Independent_music">independently</a>. <strong><a href="https://www.norahjones.com/">Learn More ></a></strong> <em>Gates open at 6:30pm, Show starts at 7:30pm.</em>
SUMMARY:NORAH JONES
ORGANIZER:Vail Valley Foundation
URL;VALUE=URI:https://vvf.org/event/norah-jones/
TRANSP:OPAQUE
BEGIN:VALARM
ACTION:DISPLAY
TRIGGER;VALUE=DATE-TIME:20240722T193000
DESCRIPTION:Reminder for NORAH JONES
END:VALARM
END:VEVENT
END:VCALENDAR
