BEGIN:VCALENDAR
VERSION:2.0
PRODID:-//Vail Valley Foundation //NONSGML Events //EN
CALSCALE:GREGORIAN
X-WR-CALNAME:Vail Valley Foundation
BEGIN:VEVENT
CREATED:20240213T180002Z
UID:676355
DTEND;VALUE=DATE:20240901T190000
DTSTART;VALUE=DATE:20240901T190000
DTSTAMP:20260426T024628Z
LOCATION:
DESCRIPTION:<h3 class="text-orange"><strong>Sunday, September 1, 2024</strong></h3> <h1 class="text-green">ROBERT PLANT & ALISON KRAUSS</h1> <h3 class="text-teal text-green"><strong>with special guest JD McPherson</strong></h3> <span style="font-weight: 400;">“These are songs that have gone into our hearts way back in time, but got lost in the twists and curves of the passing years,” says Robert Plant. “You hear them and you go ‘Man, listen to that song, we </span><i><span style="font-weight: 400;">got to</span></i><span style="font-weight: 400;"> sing that song!’ It’s a vacation, really—the perfect place to go that you least expected to find.”</span> <span style="font-weight: 400;">In 2007, Plant and Alison Krauss released </span><i><span style="font-weight: 400;">Raising Sand</span></i><span style="font-weight: 400;">, one of the most acclaimed albums of the 21st Century. It was an unlikely, mesmerizing pairing of one of rock’s greatest frontmen with one of country music’s finest and most honored artists, produced by the legendary T Bone Burnett. It entered the Billboard 200 at Number Two and was certified platinum, and it won six Grammy awards, including both Album and Record of the Year.</span> <span style="font-weight: 400;">After fourteen years, the two icons reunited with </span><i><span style="font-weight: 400;">Raise the Roof</span></i><span style="font-weight: 400;">. Earning three 2023 Grammy nominations and unanimous acclaim, these dozen songs have extended this remarkable collaboration in thrilling new directions – from performances on the illustrious stages of Bonnaroo, Forest Hills Stadium, Glastonbury, the Greek Theatre, Red Rocks and far beyond, to appearances on </span><i><span style="font-weight: 400;">The Late Show with Stephen Colbert</span></i><span style="font-weight: 400;">, </span><i><span style="font-weight: 400;">The Tonight Show Starring Jimmy Fallon</span></i><span style="font-weight: 400;">, </span><i><span style="font-weight: 400;">CBS Mornings</span></i><span style="font-weight: 400;">, </span><i><span style="font-weight: 400;">PBS NewsHour</span></i><span style="font-weight: 400;">, </span><i><span style="font-weight: 400;">CMT Crossroads</span></i><span style="font-weight: 400;"> and more, to 2024’s Can’t Let Go Tour, which will see the duo once again return to North America for nearly 40 dates this spring and summer. </span> <span style="font-weight: 400;">With </span><i><span style="font-weight: 400;">Raise the Roof</span></i><span style="font-weight: 400;">, Plant and Krauss were determined not to simply replicate a formula. “We wanted it to move,” says Krauss. “We brought other people in, other personalities within the band and coming back together again in the studio brought a new intimacy to the harmonies.”</span> <span style="font-weight: 400;">The duo’s intention had always been to continue the momentum of </span><i><span style="font-weight: 400;">Raising Sand</span></i><span style="font-weight: 400;">. “There was so much enthusiasm, excitement and adrenaline that it would have been folly if we didn’t keep going,” says Plant. “We did join up and consider songs, try to work out some ideas, but then somebody would ask if I’d want to take my band to the Arctic Circle—‘OK, I’ll do that, call you back, Alison!’ And then she goes off and gets another Grammy. We’ve both constantly made new recordings.</span> <strong><a href="https://www.plantkrauss.com/">Learn More ></a></strong> <em>Gates open at 6:00pm, Show starts at 7:00pm.</em>
SUMMARY:ROBERT PLANT & ALISON KRAUSS
ORGANIZER:Vail Valley Foundation
URL;VALUE=URI:https://vvf.org/event/robert-plant-alison-krauss/
TRANSP:OPAQUE
BEGIN:VALARM
ACTION:DISPLAY
TRIGGER;VALUE=DATE-TIME:20240901T190000
DESCRIPTION:Reminder for ROBERT PLANT &amp\; ALISON KRAUSS
END:VALARM
END:VEVENT
END:VCALENDAR
