BEGIN:VCALENDAR
VERSION:2.0
PRODID:-//Vail Valley Foundation //NONSGML Events //EN
CALSCALE:GREGORIAN
X-WR-CALNAME:Vail Valley Foundation
BEGIN:VEVENT
CREATED:20240206T180003Z
UID:675388
DTEND;VALUE=DATE:20240713T193000
DTSTART;VALUE=DATE:20240713T193000
DTSTAMP:20260426T024822Z
LOCATION:
DESCRIPTION:<h3 class="text-orange"><strong>Saturday, July 13, 2024</strong></h3> <h1 class="text-green">PORTUGAL. THE MAN</h1> <h2 class="text-green text-uppercase"><strong>With special guest Tegan and Sara AND SNACKTIME</strong></h2> <span style="font-weight: 400;">Over the past decade, Portugal. The Man has established themselves as one of rock’s most prized possessions and a live phenomenon, with over 1,600 shows under their belts and a storied reputation as festival favorites. </span> <span style="font-weight: 400;">Originally heralding from Alaska, the Portland-based band soared to new heights in 2017 with the release of their now RIAA certified-Platinum album, Woodstock. The album was marked by the astounding success of their infectious single, “Feel It Still,” which earned the group a plethora of new accolades – including a GRAMMY for “Best Pop Duo/Group Performance,” a 7x RIAA Platinum certification, a record setting 20-week residency at #1 on alternative radio, and an inescapable presence on the Top 40 airwaves.  </span> <span style="font-weight: 400;">Alongside the shine of their myriad of musical accomplishments lies the group’s long-standing passion for social justice. In fact, this is precisely the intersection in which Portugal. The Man thrives; throughout their career, the band has consistently exemplified how to deeply commit to both artistry and activism. This ultimately inspired them to officially launch PTM Foundation in 2020, focused on universal issues related to human rights, community health, and the environment, with an emphasis on causes directly impacting Indigenous Peoples, including Alaska Native Health (providing the highest quality of health services for Alaska Native people) and Seeding Sovereignty (radicalizing and disrupting colonized spaces through land, body, food sovereignty work and more). </span> <span style="font-weight: 400;">Portugal. The Man have also partnered with an array of organizations such as National Coalition Against Censorship, The Skatepark Project (helping communities build public skate parks for youth in underserved communities), March for Our Lives (Gun Reform), Keep Oregon Well (Mental Health), and Protect Our Winters (Climate Change), to name just a few. In 2022, the band furthered their passion for activism when they launched PTM’s NIGHT OUT initiative – supporting disabled fans requiring ADA access.</span> <strong><a href="https://www.portugaltheman.com/entersite">Learn More ></a></strong> <em>Gates open at 6:30pm, Show starts at 7:30pm.</em>
SUMMARY:PORTUGAL. THE MAN
ORGANIZER:Vail Valley Foundation
URL;VALUE=URI:https://vvf.org/event/portugal-the-man/
TRANSP:OPAQUE
BEGIN:VALARM
ACTION:DISPLAY
TRIGGER;VALUE=DATE-TIME:20240713T193000
DESCRIPTION:Reminder for PORTUGAL. THE MAN
END:VALARM
END:VEVENT
END:VCALENDAR
