BEGIN:VCALENDAR
VERSION:2.0
PRODID:-//Vail Valley Foundation //NONSGML Events //EN
CALSCALE:GREGORIAN
X-WR-CALNAME:Vail Valley Foundation
BEGIN:VEVENT
CREATED:20240206T160003Z
UID:675306
DTEND;VALUE=DATE:20240815T193000
DTSTART;VALUE=DATE:20240815T193000
DTSTAMP:20260426T024800Z
LOCATION:
DESCRIPTION:<h3 class="text-orange"><strong>Thursday, August 15, 2024</strong></h3> <h1 class="text-green">THE BEACH BOYS</h1> As The Beach Boys mark more than a half century of making music, the group continues to ride the crest of a wave unequalled in America’s musical history. The Beach Boys – who have become synonymous with the California lifestyle and an American icon, are bringing their “Endless Summer Gold” tour to fans around the world. Since the band’s co-founder, lead-singer and chief lyricist Mike Love penned the lyrics to The Beach Boys’ first hit, “Surfin’” (1961), dozens of the bands chart toppers have become eternal anthems of American youth: “Surfin’ USA,” “Surfer Girl,” “Fun, Fun, Fun,” “I Get Around,” “California Girls,” “Help Me Rhonda,” “Barbara Ann,” “Good Vibrations,” “Wouldn’t It Be Nice,” “Rock and Roll Music” and “Kokomo.”The Beach Boys have sold over 100 million records worldwide and have received more than 33 RIAA Platinum and Gold record awards. The Rock And Roll Hall of Famers where also honored at the 2001 Grammy Awards with the Lifetime Achievement Award. With more than five decades of touring under their belts, The Beach Boys have performed more concerts than any major rock band in history. Sounds Of Summer: The Very Best Of The Beach Boys, Capitol/EMI's 30-track collection of the band's biggest hits, has achieved triple- platinum success with sales of more than three million copies in the U.S. since its release. The Beach Boys are led by lead singer and critically acclaimed chief lyricist Mike Love, who, along with longtime member Bruce Johnston, musical director Brian Eichenberger, Christian Love, Tim Bonhomme, Jon Bolton, Keith Hubacher, Randy Leago and John Wedemeyer continue the legacy of the iconic band. <strong><a href="https://thebeachboys.com/">Learn More ></a></strong> <em>Gates open at 6:30pm, Show starts at 7:30pm.</em>
SUMMARY:THE BEACH BOYS
ORGANIZER:Vail Valley Foundation
URL;VALUE=URI:https://vvf.org/event/the-beach-boys/
TRANSP:OPAQUE
BEGIN:VALARM
ACTION:DISPLAY
TRIGGER;VALUE=DATE-TIME:20240815T193000
DESCRIPTION:Reminder for THE BEACH BOYS
END:VALARM
END:VEVENT
END:VCALENDAR
