BEGIN:VCALENDAR
VERSION:2.0
PRODID:-//Vail Valley Foundation //NONSGML Events //EN
CALSCALE:GREGORIAN
X-WR-CALNAME:Vail Valley Foundation
BEGIN:VEVENT
CREATED:20231213T151457Z
UID:643983
DTEND;VALUE=DATE:20260213T180000
DTSTART;VALUE=DATE:20260213T180000
DTSTAMP:20260421T155607Z
LOCATION:
DESCRIPTION:
SUMMARY:Black Diamond Ball
ORGANIZER:Vail Valley Foundation
URL;VALUE=URI:https://vvf.org/event/black-diamond-ball/
TRANSP:OPAQUE
BEGIN:VALARM
ACTION:DISPLAY
TRIGGER;VALUE=DATE-TIME:20260213T180000
DESCRIPTION:Reminder for Black Diamond Ball
END:VALARM
END:VEVENT
END:VCALENDAR
