BEGIN:VCALENDAR
VERSION:2.0
PRODID:-//Vail Valley Foundation //NONSGML Events //EN
CALSCALE:GREGORIAN
X-WR-CALNAME:Vail Valley Foundation
BEGIN:VEVENT
CREATED:20231213T000006Z
UID:643687
DTEND;VALUE=DATE:20260821T230000
DTSTART;VALUE=DATE:20260821T183000
DTSTAMP:20260426T044054Z
LOCATION:
DESCRIPTION:<h3 class="text-orange"><strong>Friday, August 21, 2026</strong></h3> <h1 class="text-green">JOE RUSSO'S ALMOST DEAD</h1> <span data-olk-copy-source="MessageBody">Joe Russo's Almost Dead is Marco Benevento, Dave Dreiwitz, Tom Hamilton, Scott Metzger and Joe Russo. We're a Grateful Dead cover band.</span> <strong><a href="http://www.joerussosalmostdead.com/">Learn More ></a></strong> <em>Gates open at 5:30pm, Show starts at 6:30pm.</em>
SUMMARY:JOE RUSSO’S ALMOST DEAD
ORGANIZER:Vail Valley Foundation
URL;VALUE=URI:https://vvf.org/event/joe-russos-almost-dead-3/
TRANSP:OPAQUE
BEGIN:VALARM
ACTION:DISPLAY
TRIGGER;VALUE=DATE-TIME:20260821T230000
DESCRIPTION:Reminder for JOE RUSSO&#8217\;S ALMOST DEAD
END:VALARM
END:VEVENT
END:VCALENDAR
