BEGIN:VCALENDAR
VERSION:2.0
PRODID:-//Vail Valley Foundation //NONSGML Events //EN
CALSCALE:GREGORIAN
X-WR-CALNAME:Vail Valley Foundation
BEGIN:VEVENT
CREATED:20230502T140002Z
UID:528325
DTEND;VALUE=DATE:20231005T190000
DTSTART;VALUE=DATE:20231005T190000
DTSTAMP:20260426T042800Z
LOCATION:
DESCRIPTION:<h3 class="text-orange"><strong>Thursday, October 5, 2023</strong></h3> <h3 class="text-green">BERT KREISCHER: TOPS OFF WORLD TOUR</h3> <span data-contrast="none">“</span><span data-contrast="none">A rare and incredible talent” (</span><i><span data-contrast="none">Interrobang</span></i><span data-contrast="none">) whose </span><span data-contrast="none">“</span><span data-contrast="none">success isn</span><span data-contrast="none">’</span><span data-contrast="none">t a surprise” (</span><i><span data-contrast="none">Variety</span></i><span data-contrast="none">), Bert Kreischer has become an award-winning entertainment juggernaut and a master of virtually every medium he tackles: standup comedy, TV, podcasts, a memoir and album, and soon his first feature film. He was </span><i><span data-contrast="none">Pollstar</span></i><span data-contrast="none">’</span><span data-contrast="none">s #1 2020 standup touring artist in the midst of a global pandemic, selling out arenas and the legendary Red Rocks Amphitheatre, and earning </span><i><span data-contrast="none">Pollstar</span></i><span data-contrast="none">’</span><span data-contrast="none">s Damn The Torpedoes: 2020-2021 Touring Artist award. Followed soon after by </span><i><span data-contrast="none">Variety</span></i><span data-contrast="none">’</span><span data-contrast="none">s 2021 Creative Impact in Comedy award. </span><span data-ccp-props="{}"> </span> <span data-contrast="none">Bert has revolutionized live comedy performances with 2020</span><span data-contrast="none">’</span><span data-contrast="none">s Hot Summer Nights tour of drive-ins and this year</span><span data-contrast="none">’</span><span data-contrast="none">s Fully Loaded Comedy Festival that took Kreischer and his favorite comedians to such open-air venues as minor league baseball parks, a racetrack and amphitheater. He boasts two of the most-popular comedy podcasts in the world, </span><span data-contrast="none">“</span><span data-contrast="none">Bertcast” and ”2 Bears 1 Cave” (with Tom Segura), stars in his own Netflix show </span><span data-contrast="none">“</span><span data-contrast="none">The Cabin with Bert Kreischer,” and hosts the wildly-successful </span><span data-contrast="none">“</span><span data-contrast="none">The Go Big Show” on TBS alongside celebrity judges T-Pain, Rosario Dawson, Jennifer Nettles, and Cody Rhodes, now heading into its third season. Three of his four comedy specials are currently streaming on Netflix, </span><span data-contrast="none">“</span><span data-contrast="none">The Machine,” “Secret Time” and </span><span data-contrast="none">“</span><span data-contrast="none">Hey Big Boy.” And he stars in, wrote, and produced his upcoming movie, also </span><span data-contrast="none">“</span><span data-contrast="none">The Machine,” co-starring Mark Hamill of </span><span data-contrast="none">“</span><span data-contrast="none">Star Wars” fame.</span><span data-ccp-props="{}"> </span> <span data-contrast="none">“</span><span data-contrast="none">The Machine,” a unique story from his true-life experiences on a college study group in Russia when he was mistaken for a Russian mafia boss robbing the train he was on, represents a pivotal shift upward in Kreischer</span><span data-contrast="none">’</span><span data-contrast="none">s career. He wrote the story as a routine after returning home from a disappointing New Year</span><span data-contrast="none">’</span><span data-contrast="none">s Eve gig in Oxnard, CA where no one showed up.</span><span data-ccp-props="{}"> </span> <span data-contrast="none">At the time, he enjoyed a busy schedule touring comedy clubs, had chalked up TV credits for </span><span data-contrast="none">“</span><a href="https://en.wikipedia.org/wiki/Bert_the_Conqueror"><span data-contrast="none">Bert the Conqueror</span></a><span data-contrast="none">” and </span><span data-contrast="none">“</span><span data-contrast="none">Trip Flip” for the Travel Channel, </span><span data-contrast="none">“</span><span data-contrast="none">Hurt Bert” on FX, and other hosting and acting roles as well showcasing his routine on TV talk shows. </span><span data-contrast="none">“</span><span data-contrast="none">When I got into this business, everyone followed in lockstep so much: It was get your tight 10 [minutes], get on </span><i><span data-contrast="none">Conan</span></i><span data-contrast="none">, get on </span><i><span data-contrast="none">Letterman</span></i><span data-contrast="none">, get on ‘The Tonight Show,’ get a development deal, get a commercial…” Kreischer explains. </span><span data-contrast="none">“</span><span data-contrast="none">Even though I did that for a period of time, the second I started listening to my own gut was when I started really succeeding.”</span><span data-ccp-props="{}"> </span> <span data-contrast="none">After writing </span><span data-contrast="none">“</span><span data-contrast="none">The Machine” story, Bert shot himself delivering it, posted it on Facebook, and went to bed. Bert</span><span data-contrast="none">’</span><span data-contrast="none">s wife LeeAnn woke him the next morning to announce that the clip had gone viral, with 22,000 shares. By just a few days later, it had racked up a phenomenal 33 million views, Now, at more than 85 million views and counting, </span><span data-contrast="none">“</span><span data-contrast="none">The Machine” became the centerpiece of Kreischer</span><span data-contrast="none">’</span><span data-contrast="none">s next comedy special and what</span><i><span data-contrast="none"> Deadline</span></i><span data-contrast="none"> calls his </span><span data-contrast="none">“</span><span data-contrast="none">genre-busting” debut film.</span> <span data-contrast="none">“</span><span data-contrast="none">I love the idea of doing things a little differently and not being afraid to do things a little differently,” he asserts. To wit, when the Covid-19 pandemic first surged in 2020, Kreischer worried about how he and his fellow entertainers whose income relied on touring might survive. So he booked a four-date socially-distanced tour of drive-in theaters called Hot Summer Nights. </span><span data-contrast="none">“</span><span data-contrast="none">Every agent in the business told me not to do drive-ins,” he recalls. The tour sold out and created a new live entertainment option during the pandemic.</span><span data-ccp-props="{}"> </span> <span data-contrast="none">This year he introduced another imaginative touring mode, his eight-date Fully Loaded Comedy Festival, featuring his favorite fellow stand-up comics on various dates. Billed as a celebration of “comedy, cold beer, and sunsets.” It started selling out soon after it was announced, and went on to</span><span data-contrast="none"> set the attendance record for comedy shows at the Bristol Dragway in Bristol, TN, Frontier Field in Rochester, NY, Coolray Field in Lawrenceville, GA, and Day Air Ballpark in Dayton, OH.</span><span data-contrast="none"> It happened in the midst of his Berty Boy Relapse tour making up pandemic-postponed shows followed by a fall run of dates at prestigious North American venues and a return to Red Rocks, perfecting material for his next special to be shot in Omaha, NE on November 18, 2022.</span><span data-ccp-props="{}"> </span> <span data-contrast="none">The origin of Kreischer</span><span data-contrast="none">’</span><span data-contrast="none">s comedy career is as unique as his distinctive comedic brand of hilarious storytelling and observational humor, delivered shirtless.  The Tampa, FL native first burst into the public eye when </span><i><span data-contrast="none">Rolling Stone</span></i><span data-contrast="none"> magazine published a major feature article on him in 1997 as the "Number One Partier in the Nation" during his sixth year of college at Florida State University, then rated as the national number one party school. It lit a bulb in Kreischer</span><span data-contrast="none">’</span><span data-contrast="none">s imagination that standup comedy might be the career choice he had yet to make for when he finally left college. And a way to continue his genuine love for partying into adulthood.</span><span data-ccp-props="{}"> </span> <span data-contrast="none">In the wake of the article, he first tried standup at, in this case, the aptly-named venue Potbelly</span><span data-contrast="none">’</span><span data-contrast="none">s in Tallahassee. </span><span data-contrast="none">“</span><span data-contrast="none">Afterwards, I called my Dad and said, this is what I</span><span data-contrast="none">’</span><span data-contrast="none">m going to do for the rest of my life. I got to be e</span><span data-contrast="none">very part of me that I like being and everyone enjoyed it.”</span><span data-contrast="none"> He was offered a morning DJ shift on a local radio station as a result of the show. Instead, he moved to New York City, and at age 26 wrangled his way into both working and honing his act onstage at the seminal Greenwich Village venue the Boston Comedy Club alongside such fellow budding talents as Sarah Silverman, Adam Sandler, Jim Gaffigan, Ed Helms, and other notables.  </span><span data-ccp-props="{}"> </span> <span data-contrast="none">Early opportunities that came his way augured big things to come in the future, even if some didn</span><span data-contrast="none">’</span><span data-contrast="none">t work out as intended. Oliver Stone optioned the rights to the </span><i><span data-contrast="none">Rolling Stone </span></i><span data-contrast="none">article to develop it into a feature film starring Bert (a writer of a spec script for the project adapted it to become the movie </span><span data-contrast="none">“</span><span data-contrast="none">Van Wilder”). Soon after, Will Smith recruited Kreischer to star in a CBS TV sitcom pilot, </span><span data-contrast="none">“</span><span data-contrast="none">Life With David J,” with Elliott Gould.</span><span data-ccp-props="{}"> </span> <span data-contrast="none">Since migrating to Los Angeles, where he lives with his wife LeeAnn and their two daughters, Georgia and Ila – all of whom figure in his routines – Kreischer first made his bones on the standup club circuit and appearing on “The Late Show with David Letterman,” “Jimmy Kimmel Live,” “Conan” and “Racheal Ray” along with acting parts on shows like the acclaimed police drama “The Shield.” He wrote about his life to date in “Life of the Party: Stories of a Perpetual Man-Child,” published by St. Martin’s Press, and released the CD </span><i><span data-contrast="none">Bert Bert Bert </span></i><span data-contrast="none">in 2007.</span><span data-ccp-props="{}"> </span> <span data-contrast="none">His uniqueness has also helped drive Bert’s success he came out onstage one night and ripped off his shirt for a laugh. As the show went on he enjoyed being shirtless. “I am </span><i><span data-contrast="none">so </span></i><span data-contrast="none">Florida,” he notes. “I was barefoot and shirtless all the time as a kid, and still am most of the time onstage and off. It’s how I like to live.” It’s become part of his trademark as well as a signal of body positivity for the countless regular guys among his millions of fans that don’t boast cut and chiseled gym bods when they doff their shirts at the pool or beach.</span><span data-ccp-props="{}"> </span> <span data-contrast="none">A master humorous storyteller in a long and proud tradition that stretches back to legends like Mark Twain and Will Rogers, Bert is making his mark on modern culture with frank, no-holds-barred humor that tackles family and fatherhood, current events, his personal adventures, daily routines and legendary party-hearty ways, and much else that strikes his inspired fancy. And all the while, he continues to be innovative and imaginative as well as riotously hilarious.</span><span data-ccp-props="{}"> </span> <span data-contrast="none">“Everything about me is trying to be authentically in the moment and of the essence,” he concludes. It’s a realness and sincerity that creates considerable appeal to the masses from a near-countless variety of walks of life. “I just started doing stuff that I found fun. I found enough confidence in myself to go, ‘I got here doing what I wanted and what I loved. I’m just going to do what I love and not let people tell me what I should be doing.’”</span><span data-ccp-props="{}"> </span> <hr /> <em>Gates open at 6:00pm, Show starts at 7:00pm.</em>
SUMMARY:Bert Kreischer
ORGANIZER:Vail Valley Foundation
URL;VALUE=URI:https://vvf.org/event/bert-kreischer/
TRANSP:OPAQUE
BEGIN:VALARM
ACTION:DISPLAY
TRIGGER;VALUE=DATE-TIME:20231005T190000
DESCRIPTION:Reminder for Bert Kreischer
END:VALARM
END:VEVENT
END:VCALENDAR
