BEGIN:VCALENDAR
VERSION:2.0
PRODID:-//Vail Valley Foundation //NONSGML Events //EN
CALSCALE:GREGORIAN
X-WR-CALNAME:Vail Valley Foundation
BEGIN:VEVENT
CREATED:20260407T160019Z
UID:1185533
DTEND;VALUE=DATE:20260721T183000
DTSTART;VALUE=DATE:20260721T183000
DTSTAMP:20260425T230218Z
LOCATION:
DESCRIPTION:<h1 class="text-orange">Tuesday, July 21, 2026</h1> Jamestown Revival is an internationally recognized Americana/Roots Rock band from Austin, TX. The band has performed at iconic music festivals, such as Austin City Limits, Farm Aid, Coachella, Stagecoach, Lollapalooza, Willie Nelson's 4th of July Picnic and the Outlaw Music Festival (featuring Willie Nelson), have been featured in publications ranging from Rolling Stone to the Wall Street Journal, and toured with the likes of the The Avett Brothers, Brandi Carlile, Nathaniel Rateliff, Ryan Bingham and Willie Nelson. Jamestown Revival has released four critically acclaimed albums (Utah, The Education Of A Wandering Man, San Isabel and Young Man) and two equally praised EPs (Field Guide To Loneliness and Fireside With Louis L’Amour), and has earned Tony and Grammy Award nominations for their work on hit Broadway musical, The Outsiders - A New Musical (2024 Tony Award Winner – Best Musical). <strong><a href="https://www.mainsqueezemusic.com/" target="_blank" rel="noopener"><span style="font-family: proxima-nova, -apple-system, system-ui, BlinkMacSystemFont, 'Helvetica Neue', Arial, sans-serif; font-size: 1rem;">Learn more ></span></a></strong>
SUMMARY:Jamestown Revival
ORGANIZER:Vail Valley Foundation
URL;VALUE=URI:https://vvf.org/event/jamestown-revival/
TRANSP:OPAQUE
BEGIN:VALARM
ACTION:DISPLAY
TRIGGER;VALUE=DATE-TIME:20260721T183000
DESCRIPTION:Reminder for Jamestown Revival
END:VALARM
END:VEVENT
END:VCALENDAR
