BEGIN:VCALENDAR
VERSION:2.0
PRODID:-//Vail Valley Foundation //NONSGML Events //EN
CALSCALE:GREGORIAN
X-WR-CALNAME:Vail Valley Foundation
BEGIN:VEVENT
CREATED:20260407T160019Z
UID:1185527
DTEND;VALUE=DATE:20260630T183000
DTSTART;VALUE=DATE:20260630T183000
DTSTAMP:20260425T230223Z
LOCATION:
DESCRIPTION:<h1 class="text-orange">Tuesday, June 30, 2026</h1> The Long Run, 'Colorado's Tribute to The Eagles', hails from the Front Range of the Rocky Mountains in Northern Colorado. Born in 2009, the band immediately hit the road doing Fairs and festivals all over the Four Corners states-region, including many others. In April, 2019, they celebrated their 10-year anniversary by hosting a successful concert at the famous Paramount Theatre in downtown Denver, only to be followed by an appearance at Red Rocks Amphitheater in Morrison, CO. that same Summer. The Long Run continues 13 years later, faithfully re-creating the 70's sound of America's best selling Rock Band in history. <strong><a href="https://thelongrunband.com/home" target="_blank" rel="noopener"><span style="font-family: proxima-nova, -apple-system, system-ui, BlinkMacSystemFont, 'Helvetica Neue', Arial, sans-serif; font-size: 1rem;">Learn more ></span></a></strong>
SUMMARY:The Long Run
ORGANIZER:Vail Valley Foundation
URL;VALUE=URI:https://vvf.org/event/the-long-run/
TRANSP:OPAQUE
BEGIN:VALARM
ACTION:DISPLAY
TRIGGER;VALUE=DATE-TIME:20260630T183000
DESCRIPTION:Reminder for The Long Run
END:VALARM
END:VEVENT
END:VCALENDAR
