BEGIN:VCALENDAR
VERSION:2.0
PRODID:-//Vail Valley Foundation //NONSGML Events //EN
CALSCALE:GREGORIAN
X-WR-CALNAME:Vail Valley Foundation
BEGIN:VEVENT
CREATED:20260407T160019Z
UID:1185524
DTEND;VALUE=DATE:20260623T183000
DTSTART;VALUE=DATE:20260623T183000
DTSTAMP:20260425T230218Z
LOCATION:
DESCRIPTION:<h1 class="text-orange">Tuesday, June 23, 2026</h1> Jammy Buffet is where Jimmy Buffett’s coastal storytelling meets jam-band improvisation. Fronted by singer-songwriter Bob Barrick with Brendan Mayer, Mickey Lenny, and Tyler Gwynn, the Colorado–Tennessee group revives Buffett’s “Gulf & Western” sound with fresh energy and musicianship. Their shows blend greatest-hit singalongs, deep-cut gems, and cosmic grooves—sun-soaked, high-spirited, and always a party. Featuring regular collaborations with members of Jimmy’s Coral Reefer Band, Jammy Buffet is redefining paradise for a new generation. <strong><a href="https://jammybuffet.com/" target="_blank" rel="noopener"><span style="font-family: proxima-nova, -apple-system, system-ui, BlinkMacSystemFont, 'Helvetica Neue', Arial, sans-serif; font-size: 1rem;">Learn more ></span></a></strong>
SUMMARY:Jammy Buffet
ORGANIZER:Vail Valley Foundation
URL;VALUE=URI:https://vvf.org/event/jammy-buffet/
TRANSP:OPAQUE
BEGIN:VALARM
ACTION:DISPLAY
TRIGGER;VALUE=DATE-TIME:20260623T183000
DESCRIPTION:Reminder for Jammy Buffet
END:VALARM
END:VEVENT
END:VCALENDAR
