BEGIN:VCALENDAR
VERSION:2.0
PRODID:-//Vail Valley Foundation //NONSGML Events //EN
CALSCALE:GREGORIAN
X-WR-CALNAME:Vail Valley Foundation
BEGIN:VEVENT
CREATED:20260320T140017Z
UID:1170512
DTEND;VALUE=DATE:20260703T190000
DTSTART;VALUE=DATE:20260703T190000
DTSTAMP:20260425T230058Z
LOCATION:
DESCRIPTION:<h3 class="text-orange"><strong>Friday, July 3, 2026</strong></h3> <h1 class="text-green text-uppercase">MYLES SMITH</h1> <h2 class="text-green text-uppercase">My Mess, My Heart, My Life Tour</h2> <h2 class="text-green">WITH SPECIAL GUEST HAZLETT</h2>   <strong>ABOUT MYLES SMITH:</strong> With over 135 million streams to his name, Myles Smith, singer-songwriter and DIY phenom extraordinaire, has released his debut EP ‘You Promised A Lifetime’ today. Listen here Luton-born Myles, a guitar player from the age of nine, is the man behind streaming sensations ‘Solo’ and ‘My Home’. Over the last year, his profile has skyrocketed as he’s released a string of original tracks and captivating covers that mix folk, Americana, and pop. His dedicated fanbase is evident, with 135 million streams, over 600K followers on Instagram, 6.3 million monthly listeners on Spotify, and almost 850K followers on TikTok. Myles said of his debut EP: ‘This title represents a profound, yet neutral statement, which gains meaning through the perspective of the person reading it. With the project, my own stories, and the stories of those around me were used to create it, but it’s the stories and journeys of those listening who truly give it life, depending on where you are in life and what you are feeling. I hope it gives space to people to unlock their own meanings. Myles has also announced his second headline tour in the form of a string of Spring dates in the UK and EU. It’s hot off the heels of his first sold-out UK/EU and US tour, which saw his army of fans singing every word to every song. <strong><a href="https://www.mylessmith.co.uk/" target="_blank" rel="noopener">Learn More ></a></strong> <strong>ABOUT HAZLETT:</strong> “The honest truth… I’m just one heck of an emotional, stubborn, simple, romantic guy. I rarely like socialising with large groups of people. My circle’s small. I can’t blow smoke up other people’s behinds for a leg up or their attention. I’d rather help people sort out their own life, instead of my own. I love all creative people but I’m inspired and jealous of them at the same time. I’m a little broken just like you. I am the way I am and at the end of the day people are going to like what I do or they are going to hate it. Either way this thing goes, at least it’s going to be honest and from the heart” Lots of love, Haz <strong><a href="https://thisishazlett.com/" target="_blank" rel="noopener">Learn More ></a></strong> <em>Gates open at 6:00pm, Show starts at 7:00pm.</em>
SUMMARY:Myles Smith
ORGANIZER:Vail Valley Foundation
URL;VALUE=URI:https://vvf.org/event/myles-smith/
TRANSP:OPAQUE
BEGIN:VALARM
ACTION:DISPLAY
TRIGGER;VALUE=DATE-TIME:20260703T190000
DESCRIPTION:Reminder for Myles Smith
END:VALARM
END:VEVENT
END:VCALENDAR
