BEGIN:VCALENDAR
VERSION:2.0
PRODID:-//Vail Valley Foundation //NONSGML Events //EN
CALSCALE:GREGORIAN
X-WR-CALNAME:Vail Valley Foundation
BEGIN:VEVENT
CREATED:20260210T180005Z
UID:1141108
DTEND;VALUE=DATE:20260818T193000
DTSTART;VALUE=DATE:20260818T193000
DTSTAMP:20260425T210904Z
LOCATION:
DESCRIPTION:<h3 class="text-orange"><strong>Tuesday, August 18, 2026</strong></h3> <h1 class="text-green text-uppercase">The Australian Pink Floyd Show: The Happiest Days Of Our Lives - Greatest Hits 26</h1> <strong>ABOUT THE AUSTRAILIAN PINK FLOYD:</strong> Having sold over five million tickets to concerts that have taken place in 35 countries, The Australian Pink Floyd Show is rightfully hailed as one of the most in-demand touring entities currently operating. The Times Newspaper in London described them as “The Gold Standard”. This act are so good they were even engaged by David Gilmour to perform at his 50th birthday celebration! <strong><a href="https://www.aussiefloyd.com/">Learn More ></a></strong> <em>Gates open at 6:30pm, Show starts at 7:30pm.</em>
SUMMARY:The Australian Pink Floyd Show: The Happiest Days Of Our Lives – Greatest Hits 26
ORGANIZER:Vail Valley Foundation
URL;VALUE=URI:https://vvf.org/event/the-australian-pink-floyd-show-the-happiest-days-of-our-lives-greatest-hits-26/
TRANSP:OPAQUE
BEGIN:VALARM
ACTION:DISPLAY
TRIGGER;VALUE=DATE-TIME:20260818T193000
DESCRIPTION:Reminder for The Australian Pink Floyd Show: The Happiest Days Of Our Lives &#8211\; Greatest Hits 26
END:VALARM
END:VEVENT
END:VCALENDAR
