BEGIN:VCALENDAR
VERSION:2.0
PRODID:-//Vail Valley Foundation //NONSGML Events //EN
CALSCALE:GREGORIAN
X-WR-CALNAME:Vail Valley Foundation
BEGIN:VEVENT
CREATED:20251009T000009Z
UID:1039029
DTEND;VALUE=DATE:20251213T183000
DTSTART;VALUE=DATE:20251213T183000
DTSTAMP:20260425T190119Z
LOCATION:
DESCRIPTION:
SUMMARY:SOFI TUKKER at FORD PARK
ORGANIZER:Vail Valley Foundation
URL;VALUE=URI:https://vvf.org/event/sofi-tukker-at-ford-park/
TRANSP:OPAQUE
BEGIN:VALARM
ACTION:DISPLAY
TRIGGER;VALUE=DATE-TIME:20251213T183000
DESCRIPTION:Reminder for SOFI TUKKER at FORD PARK
END:VALARM
END:VEVENT
END:VCALENDAR
